BEGIN:VCALENDAR
VERSION:2.0
PRODID:-//Happy Radio - ECPv6.15.20//NONSGML v1.0//EN
CALSCALE:GREGORIAN
METHOD:PUBLISH
X-ORIGINAL-URL:https://happyradio.fr
X-WR-CALDESC:Évènements pour Happy Radio
REFRESH-INTERVAL;VALUE=DURATION:PT1H
X-Robots-Tag:noindex
X-PUBLISHED-TTL:PT1H
BEGIN:VTIMEZONE
TZID:Europe/Paris
BEGIN:DAYLIGHT
TZOFFSETFROM:+0100
TZOFFSETTO:+0200
TZNAME:CEST
DTSTART:20250330T010000
END:DAYLIGHT
BEGIN:STANDARD
TZOFFSETFROM:+0200
TZOFFSETTO:+0100
TZNAME:CET
DTSTART:20251026T010000
END:STANDARD
BEGIN:DAYLIGHT
TZOFFSETFROM:+0100
TZOFFSETTO:+0200
TZNAME:CEST
DTSTART:20260329T010000
END:DAYLIGHT
BEGIN:STANDARD
TZOFFSETFROM:+0200
TZOFFSETTO:+0100
TZNAME:CET
DTSTART:20261025T010000
END:STANDARD
BEGIN:DAYLIGHT
TZOFFSETFROM:+0100
TZOFFSETTO:+0200
TZNAME:CEST
DTSTART:20270328T010000
END:DAYLIGHT
BEGIN:STANDARD
TZOFFSETFROM:+0200
TZOFFSETTO:+0100
TZNAME:CET
DTSTART:20271031T010000
END:STANDARD
END:VTIMEZONE
BEGIN:VEVENT
DTSTART;TZID=Europe/Paris:20260228T110000
DTEND;TZID=Europe/Paris:20260228T180000
DTSTAMP:20260422T131145
CREATED:20260129T131705Z
LAST-MODIFIED:20260129T132219Z
UID:10004107-1772276400-1772301600@happyradio.fr
SUMMARY:Carnaval de Bergerac
DESCRIPTION:Le traditionnel Carnaval de Bergerac est de retour l \nCette année le Tour de France sera à l’honneur ! \nMaquillage\, chamboul’tout\, photobooth\, ateliers cirque\, démonstration et initiation de danse\, création et exposition de masques\, jeux en bois\, quizz\, atelier décoration de vélos\, manège à pédale\, ateliers créatifs\, bulles géantes\, photos drôles polaroïd\, pêche aux canards (payant)… \nRestauration sur place.
URL:https://happyradio.fr/event/carnaval-de-bergerac-2026
LOCATION:Parc Jean Jaurès / Jardin Perdoux\, Parc Jean Jaurès / Jardin Perdoux\, Bergerac
ATTACH;FMTTYPE=image/jpeg:https://happyradio.fr/wp-content/uploads/2026/01/velo-scaled.jpg
END:VEVENT
END:VCALENDAR