BEGIN:VCALENDAR
VERSION:2.0
PRODID:-//Happy Radio - ECPv6.15.20//NONSGML v1.0//EN
CALSCALE:GREGORIAN
METHOD:PUBLISH
X-ORIGINAL-URL:https://happyradio.fr
X-WR-CALDESC:Évènements pour Happy Radio
REFRESH-INTERVAL;VALUE=DURATION:PT1H
X-Robots-Tag:noindex
X-PUBLISHED-TTL:PT1H
BEGIN:VTIMEZONE
TZID:Europe/Paris
BEGIN:DAYLIGHT
TZOFFSETFROM:+0100
TZOFFSETTO:+0200
TZNAME:CEST
DTSTART:20250330T010000
END:DAYLIGHT
BEGIN:STANDARD
TZOFFSETFROM:+0200
TZOFFSETTO:+0100
TZNAME:CET
DTSTART:20251026T010000
END:STANDARD
BEGIN:DAYLIGHT
TZOFFSETFROM:+0100
TZOFFSETTO:+0200
TZNAME:CEST
DTSTART:20260329T010000
END:DAYLIGHT
BEGIN:STANDARD
TZOFFSETFROM:+0200
TZOFFSETTO:+0100
TZNAME:CET
DTSTART:20261025T010000
END:STANDARD
BEGIN:DAYLIGHT
TZOFFSETFROM:+0100
TZOFFSETTO:+0200
TZNAME:CEST
DTSTART:20270328T010000
END:DAYLIGHT
BEGIN:STANDARD
TZOFFSETFROM:+0200
TZOFFSETTO:+0100
TZNAME:CET
DTSTART:20271031T010000
END:STANDARD
END:VTIMEZONE
BEGIN:VEVENT
DTSTART;TZID=Europe/Paris:20260410T100000
DTEND;TZID=Europe/Paris:20261031T173000
DTSTAMP:20260424T183739
CREATED:20260403T122922Z
LAST-MODIFIED:20260403T122922Z
UID:10004218-1775815200-1793467800@happyradio.fr
SUMMARY:Exposition Du bois des rêves de Bastien Lemaître et Ross Gash au Château de Puyguilem (Villars)
DESCRIPTION:Le Centre des monuments nationaux présente l’exposition « Du bois des rêves » du 10 avril\nau 31 octobre 2026 au château de Puyguilhem.\nCette exposition réunit deux peintres\, Bastien Lemaître et Ross Gash\, dont les démarches\nsingulières se rencontrent autour d’un même intérêt pour l’originalité et la structure des\néléments naturels\, en particulier celles de l’arbre.\nIl ne s’agit pas de représenter le paysage\, mais de ressentir comment il nourrit nos\nimaginaires\, en résonance avec le cadre naturel de Puyguilhem et sa promesse de « château\nde conte de fées ».
URL:https://happyradio.fr/event/exposition-du-bois-des-reves-de-bastien-lemaitre-et-ross-gash-au-chateau-de-puyguilem-villars
LOCATION:château de Puyguilhem\, 24530\, Villars\, 891 rue Mondot de la Marthonie\, Villars\, Dordogne\, 24530\, France
CATEGORIES:_AGENDA
ATTACH;FMTTYPE=image/png:https://happyradio.fr/wp-content/uploads/2026/03/Du-bois-des-reves-FINAL.png
ORGANIZER;CN="Centre des monuments nationaux - Ch%C3%A2teau de Puyguilhem":MAILTO:puyguilhem@monuments-nationaux.fr
END:VEVENT
BEGIN:VEVENT
DTSTART;VALUE=DATE:20260606
DTEND;VALUE=DATE:20260727
DTSTAMP:20260424T183739
CREATED:20260410T121053Z
LAST-MODIFIED:20260410T121053Z
UID:10004248-1780704000-1785110399@happyradio.fr
SUMMARY:Exposition Philippe GLÉMET
DESCRIPTION:Du 6 juin au 26 juillet 2026 à l’Ancien Évéché \nInspiré très tôt par Arte Povera et Supports-Surfaces\, Philippe Glémet a toujours eu à coeur d’utiliser pour ses compositions des matières récupérées à son atelier de restauration de mobilier. \nPour ses premiers tableaux\, l’artisan d’art de Périgueux utilisait des produits spécifiques comme pigments\, gommes-laques\, cires\, bois et sciure. Puis la marqueterie Boulle\, dont il est spécialiste\, lui a permis d’apprécier le travail de l’ornemaniste de Louis XIV\, Jean Bérain\, auteur de facétieux décors de marqueterie. \nLe talent et la fantaisie de cet artiste ont donné envie à Philippe Glémet d’emprunter quelques motifs de ses créations\, de les simplifier\, de les agrandir pour en faire des tampons qui\, nourris de peinture\, vont lui permettre de laisser une empreinte aléatoire sur les toiles. \nAujourd’hui\, conscient des enjeux cruciaux pour notre environnement\, il poursuit plus que jamais sa démarche de récupération. Chacun agit selon sa conscience écologique\, contribue avec ses moyens\, lutte à sa manière. \nIl s’intéresse désormais au papier sorti des broyeuses de bureau\, qu’on retrouve tassé dans les sacs jaunes. Il a commencé par utiliser ces lambeaux de papier « tels quels »\, avec l’idée de rendre hommage aux arbres. Du bois broyé de l’arbre on fait du papier et du papier broyé il fait des arbres. Un retour à l’envoyeur en quelque sorte. \nPuis\, ces bouts de papier\, ces lettres\, ces mots devenus illisibles sortis du sac\, l’envie de les faire parler\, s’est fait sentir. Les voilà collés\, organisés sur la toile comme une page d’écriture. Et en utilisant un tampon et de la peinture est apparu un nouveau langage\, sans contenu sémantique. Une écriture pansémique. Un champ des possibles s’ouvre à lui\, inexorablement. \nPhilippe Glémet vit et travaille en Dordogne \nArts appliqués Bordeaux. Restaurateur de mobilier ancien. Maitre artisan en Métiers d’Art. \nExpositions récentes : Centre culturel de la visitation à Périgueux. \nAchat FDAC (Fonds départemental d’art contemporain)
URL:https://happyradio.fr/event/exposition-philippe-glemet-2
LOCATION:Ancien Êvéché\, 3\, Rue Tourny\, Sarlat-La Canéda\, Sélectionner un État :\, 24200\, France
CATEGORIES:_AGENDA
ATTACH;FMTTYPE=image/jpeg:https://happyradio.fr/wp-content/uploads/2026/04/AFFICHE-SARLAT-26-scaled.jpg
ORGANIZER;CN="Centre culturel Louis Delmon":MAILTO:centreculturel@sarlat.fr
END:VEVENT
BEGIN:VEVENT
DTSTART;TZID=Europe/Paris:20260606T080000
DTEND;TZID=Europe/Paris:20260726T170000
DTSTAMP:20260424T183739
CREATED:20260129T124456Z
LAST-MODIFIED:20260129T124726Z
UID:10004101-1780732800-1785085200@happyradio.fr
SUMMARY:Exposition : Philippe GLÉMET
DESCRIPTION:Inspiré très tôt par Arte Povera et Supports-Surfaces\, Philippe Glémet a toujours eu à coeur d’utiliser pour ses compositions des matières récupérées à son atelier de restauration de mobilier. \nAujourd’hui\, conscient des enjeux cruciaux pour notre environnement\, il poursuit plus que jamais sa démarche de récupération. Chacun agit selon sa conscience écologique\, contribue avec ses moyens\, lutte à sa manière. \nArts appliqués Bordeaux. Restaurateur de mobilier ancien. Maitre artisan en Métiers d’Art.
URL:https://happyradio.fr/event/exposition-philippe-glemet
LOCATION:Ancien Êvéché\, 3\, Rue Tourny\, Sarlat-La Canéda\, Sélectionner un État :\, 24200\, France
ATTACH;FMTTYPE=image/webp:https://happyradio.fr/wp-content/uploads/2026/01/expo.webp
END:VEVENT
BEGIN:VEVENT
DTSTART;VALUE=DATE:20260702
DTEND;VALUE=DATE:20260706
DTSTAMP:20260424T183739
CREATED:20260309T094847Z
LAST-MODIFIED:20260309T094847Z
UID:10004193-1782950400-1783295999@happyradio.fr
SUMMARY:Festival ZEN MAIS PAS TROP
DESCRIPTION:Et si la pleine conscience était joyeuse\, collective et engagée ? \nLe Festival Zen mais pas trop est un festival culturel\, participatif et citoyen qui propose une approche moderne\, accessible et inclusive des pratiques d’intériorité. Loin des clichés austères\, il invite à expérimenter la pleine conscience dans la vraie vie\, au cœur d’un cadre naturel exceptionnel au bord de l’Auvézère\, à travers des moments de partage\, de pratique\, de réflexion et de fête. \nPendant 4 jours\, au Moulin de Chaves\, on se rassemble pour vivre une expérience à taille humaine forte mêlant : \n-Ateliers pratiques: méditation\, pratiques corporelles\, activités manuelles et artistiques \n-Mouvements incluant différents types de danse\, yoga\, art martiaux etc. \n-Conférences et discussions autour de la pleine conscience sous un regard sociétal \n-Soirées festives avec Dj set et concerts live \n-Actions de volontariat et de co-création \nUne pleine conscience engagée et vivante \nLe fil rouge de cette première édition est d’explorer la pleine conscience comme une pratique quotidienne\, accessible à toutes et tous\, et comme un engagement citoyen. \nLe festival s’appuie sur trois grands piliers : \n*Les qualités du cœur : bienveillance\, empathie et écoute authentique \n*Le collectif et la communauté : partage\, solidarité\, transmission et reliance \n*La dimension citoyenne : inclusion\, justice sociale\, égalité\, responsabilité écologique \n👉 Rejoignez-nous pour vivre une expérience profondément humaine… Zen\, mais pas trop. \nDÉTAILS \nOuvert à tous. “Enfants avant la marche et à partir de 12 ans. (”Animaux non acceptés (sauf chien guide)) \nLe festival commencera jeudi à 15h\, accueil possible dès 13h pour prendre le temps de vous installer et se terminera le dimanche à 14h après le repas. \nLe planning dans les grandes lignes : une heure de pratique matinale au choix avant le petit déjeuner\, deux ateliers au choix le matin\, un atelier au choix l’après-midi\, des temps de pause et des soirées festives. \nPour les repas : un petit déjeuner est proposé par le Moulin (7€ à réserver dans les options). Pour les repas\, il y aura différents foodtrucks sur le site\, non inclus dans votre pass festival (entre 8 et 15€). Il est également possible de faire vos propres courses aux alentours: grand marché le vendredi et petit le samedi\, boulangerie dans le village et supérette (8km). \nPour les logements : un camping est aménagé sur le site avec douches extérieures et toilettes sèches\, vous devez amener votre matériel de camping. Camping car et camion aménagé bienvenus. Vous pouvez également prendre un pass avec une chambre partagée (non mixte) avec SDB partagé dans la bâtisse du Moulin. Quelques chambres individuelles avec SDB privative sont possibles avec un supplément (à prendre dans les options). \nPour les tarifs : cela nous tient à cœur que chaque personne voulant participer au festival puisse le faire. Nous mettons en place des tarifs solidaires\, contactez nous au besoin : contact@zenmaispastrop.com . Il est également possible de faire un don en plus de votre billet pour soutenir notre jeune association\, ce projet et ceux à venir.
URL:https://happyradio.fr/event/festival-zen-mais-pas-trop
LOCATION:Moulin de Chaves\, 223 rue de l'ancienne bijouterie\, CUBJAC\, 24640\, France
ATTACH;FMTTYPE=image/jpeg:https://happyradio.fr/wp-content/uploads/2026/03/20245.jpg
ORGANIZER;CN="Association Zen mais pas trop":MAILTO:contact@zenmaispastrop.com
END:VEVENT
BEGIN:VEVENT
DTSTART;TZID=Europe/Paris:20260703T180000
DTEND;TZID=Europe/Paris:20260705T233000
DTSTAMP:20260424T183739
CREATED:20260309T094833Z
LAST-MODIFIED:20260309T094833Z
UID:10004191-1783101600-1783294200@happyradio.fr
SUMMARY:festival - Les chaises musicales
DESCRIPTION:2 jours de festival convivial avec des ateliers créatifs et activités\, des concerts et surtout : des jeux de chaises musicales géant en musique live. Le ou la meilleur.e « chaisiste musicaliste » aura la chance de remporter la chaise pelouse !\n\nProgrammation musicale : Alice\, Elise and compoblanco\, Roman et les Draxters\, B’zilo\, Dylan Gorini\, Yumeji et Home Made Crumble pour les chaises musicales\n\n\nCamping\, buvette et food trucks sur place   
URL:https://happyradio.fr/event/festival-les-chaises-musicales
LOCATION:Mas d’arneix 24450 Saint Priest Les Fougères\, Mas d'Arneix\, Saint-Priest-les-Fougères\, 24450
ATTACH;FMTTYPE=image/jpeg:https://happyradio.fr/wp-content/uploads/2026/03/Les-chaises-musicales-scaled.jpg
END:VEVENT
END:VCALENDAR