BEGIN:VCALENDAR
VERSION:2.0
PRODID:-//Happy Radio - ECPv6.15.20//NONSGML v1.0//EN
CALSCALE:GREGORIAN
METHOD:PUBLISH
X-WR-CALNAME:Happy Radio
X-ORIGINAL-URL:https://happyradio.fr
X-WR-CALDESC:Évènements pour Happy Radio
REFRESH-INTERVAL;VALUE=DURATION:PT1H
X-Robots-Tag:noindex
X-PUBLISHED-TTL:PT1H
BEGIN:VTIMEZONE
TZID:Europe/Paris
BEGIN:DAYLIGHT
TZOFFSETFROM:+0100
TZOFFSETTO:+0200
TZNAME:CEST
DTSTART:20250330T010000
END:DAYLIGHT
BEGIN:STANDARD
TZOFFSETFROM:+0200
TZOFFSETTO:+0100
TZNAME:CET
DTSTART:20251026T010000
END:STANDARD
BEGIN:DAYLIGHT
TZOFFSETFROM:+0100
TZOFFSETTO:+0200
TZNAME:CEST
DTSTART:20260329T010000
END:DAYLIGHT
BEGIN:STANDARD
TZOFFSETFROM:+0200
TZOFFSETTO:+0100
TZNAME:CET
DTSTART:20261025T010000
END:STANDARD
BEGIN:DAYLIGHT
TZOFFSETFROM:+0100
TZOFFSETTO:+0200
TZNAME:CEST
DTSTART:20270328T010000
END:DAYLIGHT
BEGIN:STANDARD
TZOFFSETFROM:+0200
TZOFFSETTO:+0100
TZNAME:CET
DTSTART:20271031T010000
END:STANDARD
END:VTIMEZONE
BEGIN:VEVENT
DTSTART;TZID=Europe/Paris:20260410T100000
DTEND;TZID=Europe/Paris:20261031T173000
DTSTAMP:20260421T153434
CREATED:20260403T122922Z
LAST-MODIFIED:20260403T122922Z
UID:10004218-1775815200-1793467800@happyradio.fr
SUMMARY:Exposition Du bois des rêves de Bastien Lemaître et Ross Gash au Château de Puyguilem (Villars)
DESCRIPTION:Le Centre des monuments nationaux présente l’exposition « Du bois des rêves » du 10 avril\nau 31 octobre 2026 au château de Puyguilhem.\nCette exposition réunit deux peintres\, Bastien Lemaître et Ross Gash\, dont les démarches\nsingulières se rencontrent autour d’un même intérêt pour l’originalité et la structure des\néléments naturels\, en particulier celles de l’arbre.\nIl ne s’agit pas de représenter le paysage\, mais de ressentir comment il nourrit nos\nimaginaires\, en résonance avec le cadre naturel de Puyguilhem et sa promesse de « château\nde conte de fées ».
URL:https://happyradio.fr/event/exposition-du-bois-des-reves-de-bastien-lemaitre-et-ross-gash-au-chateau-de-puyguilem-villars
LOCATION:château de Puyguilhem\, 24530\, Villars\, 891 rue Mondot de la Marthonie\, Villars\, Dordogne\, 24530\, France
CATEGORIES:_AGENDA
ATTACH;FMTTYPE=image/png:https://happyradio.fr/wp-content/uploads/2026/03/Du-bois-des-reves-FINAL.png
ORGANIZER;CN="Centre des monuments nationaux - Ch%C3%A2teau de Puyguilhem":MAILTO:puyguilhem@monuments-nationaux.fr
END:VEVENT
BEGIN:VEVENT
DTSTART;TZID=Europe/Paris:20260421T203000
DTEND;TZID=Europe/Paris:20260421T220000
DTSTAMP:20260421T153434
CREATED:20260410T121120Z
LAST-MODIFIED:20260410T121120Z
UID:10004237-1776803400-1776808800@happyradio.fr
SUMMARY:D’UNA LENGA L’AUTRA / D’une langue à l’autre
DESCRIPTION:Dans le cadre du Printemps des Poètes à SARLAT \nD’UNA LENGA L’AUTRA / D’une langue à l’autre Spectacle de poésie\, paysages sonores et musique En français et occitan du Limousin – Poésie musicale  \nUne immersion sensible dans l’univers de Marcelle Delpastre\, figure majeure de la littérature occitane dont le centenaire sera célébré en 2025-2026. \nPorté par Monique Burg et François Dumeaux\, le spectacle donne à entendre la langue vibrante et charnelle de cette femme de lettres et paysanne\, profondément ancrée dans le vivant. Entre français et occitan\, chants traditionnels et violon\, poésie et musique se répondent\, alternent et se mêlent dans un langage hybride fidèle à l’esprit de l’autrice. \nUn livret de traductions accompagnera le public pour permettre
URL:https://happyradio.fr/event/duna-lenga-lautra-dune-langue-a-lautre
LOCATION:Centre culturel Louis Delmon Sarlat\, Sarlat-la-Canéda
CATEGORIES:_AGENDA
ATTACH;FMTTYPE=image/jpeg:https://happyradio.fr/wp-content/uploads/2026/04/LIGHT-Photo2_Dunalengalautra_©KristofGuez-scaled.jpg
ORGANIZER;CN="centre culturel de Sarlat":MAILTO:centreculturel@sarlat.fr
END:VEVENT
END:VCALENDAR