BEGIN:VCALENDAR
VERSION:2.0
PRODID:-//Happy Radio - ECPv6.15.20//NONSGML v1.0//EN
CALSCALE:GREGORIAN
METHOD:PUBLISH
X-ORIGINAL-URL:https://happyradio.fr
X-WR-CALDESC:Évènements pour Happy Radio
REFRESH-INTERVAL;VALUE=DURATION:PT1H
X-Robots-Tag:noindex
X-PUBLISHED-TTL:PT1H
BEGIN:VTIMEZONE
TZID:Europe/Paris
BEGIN:DAYLIGHT
TZOFFSETFROM:+0100
TZOFFSETTO:+0200
TZNAME:CEST
DTSTART:20250330T010000
END:DAYLIGHT
BEGIN:STANDARD
TZOFFSETFROM:+0200
TZOFFSETTO:+0100
TZNAME:CET
DTSTART:20251026T010000
END:STANDARD
BEGIN:DAYLIGHT
TZOFFSETFROM:+0100
TZOFFSETTO:+0200
TZNAME:CEST
DTSTART:20260329T010000
END:DAYLIGHT
BEGIN:STANDARD
TZOFFSETFROM:+0200
TZOFFSETTO:+0100
TZNAME:CET
DTSTART:20261025T010000
END:STANDARD
BEGIN:DAYLIGHT
TZOFFSETFROM:+0100
TZOFFSETTO:+0200
TZNAME:CEST
DTSTART:20270328T010000
END:DAYLIGHT
BEGIN:STANDARD
TZOFFSETFROM:+0200
TZOFFSETTO:+0100
TZNAME:CET
DTSTART:20271031T010000
END:STANDARD
END:VTIMEZONE
BEGIN:VEVENT
DTSTART;TZID=Europe/Paris:20260410T100000
DTEND;TZID=Europe/Paris:20261031T173000
DTSTAMP:20260424T170759
CREATED:20260403T122922Z
LAST-MODIFIED:20260403T122922Z
UID:10004218-1775815200-1793467800@happyradio.fr
SUMMARY:Exposition Du bois des rêves de Bastien Lemaître et Ross Gash au Château de Puyguilem (Villars)
DESCRIPTION:Le Centre des monuments nationaux présente l’exposition « Du bois des rêves » du 10 avril\nau 31 octobre 2026 au château de Puyguilhem.\nCette exposition réunit deux peintres\, Bastien Lemaître et Ross Gash\, dont les démarches\nsingulières se rencontrent autour d’un même intérêt pour l’originalité et la structure des\néléments naturels\, en particulier celles de l’arbre.\nIl ne s’agit pas de représenter le paysage\, mais de ressentir comment il nourrit nos\nimaginaires\, en résonance avec le cadre naturel de Puyguilhem et sa promesse de « château\nde conte de fées ».
URL:https://happyradio.fr/event/exposition-du-bois-des-reves-de-bastien-lemaitre-et-ross-gash-au-chateau-de-puyguilem-villars
LOCATION:château de Puyguilhem\, 24530\, Villars\, 891 rue Mondot de la Marthonie\, Villars\, Dordogne\, 24530\, France
CATEGORIES:_AGENDA
ATTACH;FMTTYPE=image/png:https://happyradio.fr/wp-content/uploads/2026/03/Du-bois-des-reves-FINAL.png
ORGANIZER;CN="Centre des monuments nationaux - Ch%C3%A2teau de Puyguilhem":MAILTO:puyguilhem@monuments-nationaux.fr
END:VEVENT
BEGIN:VEVENT
DTSTART;TZID=Europe/Paris:20260424T203000
DTEND;TZID=Europe/Paris:20260424T220000
DTSTAMP:20260424T170759
CREATED:20260129T142653Z
LAST-MODIFIED:20260129T142653Z
UID:10004119-1777062600-1777068000@happyradio.fr
SUMMARY:Constance
DESCRIPTION:Dans ce spectacle drôle et bouleversant\, Constance incarne avec finesse des personnages d’une humanité folle ! \nLe public l’a découverte dans l’émission de Laurent Ruquier On ne demande qu’à en rire où elle a effectué plus de cinquante passages.
URL:https://happyradio.fr/event/constance
LOCATION:Centre Culturel Michel Manet (La CAB) 22 place Gambetta\, Bergerac
ATTACH;FMTTYPE=image/jpeg:https://happyradio.fr/wp-content/uploads/2026/01/constance.jpg
END:VEVENT
BEGIN:VEVENT
DTSTART;TZID=Europe/Paris:20260425T093000
DTEND;TZID=Europe/Paris:20260426T183000
DTSTAMP:20260424T170759
CREATED:20260206T091649Z
LAST-MODIFIED:20260206T091649Z
UID:10004149-1777109400-1777228200@happyradio.fr
SUMMARY:3e édition du Salon des Entreprises de la Vallée de l'Isle
DESCRIPTION:L’édition 2025 ayant rencontré un vif succès\, le Club d’entreprises Isle Vern Salembre organise pour la 3e année consécutive le Salon des entreprises Locales\, les 25 et 26 avril 2026 à Neuvic\nCe Salon a pour but de faire connaître aux habitants et aux visiteurs la richesse de notre tissu d’entreprises locales de la Vallée de l’Isle.\nComme en 2025\, nous organiserons :\nun marché des artisans créateurs et des producteurs locaux\, un vide-grenier le dimanche\, des animations\, des ateliers… et bien-sûr une trentaine de stands d’entreprises de la Vallée de l’Isle (Salon ouvert aux adhérents comme aux non-adhérents).\nLe Salon se tiendra dans le bâtiment du boulodrome (en face du collège).\nEntrée gratuite. Buvette et restauration sur place. Parkings gratuits à proximité.
URL:https://happyradio.fr/event/3e-edition-du-salon-des-entreprises-de-la-vallee-de-lisle
LOCATION:Neuvic boulodrome\, 9 rue de la Poutaque\, NEUVIC\, 24190\, France
ATTACH;FMTTYPE=image/jpeg:https://happyradio.fr/wp-content/uploads/2026/02/Flyer-2026-simple.jpg
ORGANIZER;CN="Club d'entreprises Isle Vern Salembre":MAILTO:contact@clubivs.fr
END:VEVENT
BEGIN:VEVENT
DTSTART;TZID=Europe/Paris:20260425T183000
DTEND;TZID=Europe/Paris:20260425T233000
DTSTAMP:20260424T170759
CREATED:20260410T121101Z
LAST-MODIFIED:20260410T121101Z
UID:10004235-1777141800-1777159800@happyradio.fr
SUMMARY:Soirée Basc'Occitane
DESCRIPTION:Soirée Basc’Occitane organisée par l’école Calandreta Bel Solelh le Samedi 25 Avril à la salle des fêtes de St Georges de Montclard\, à partir de 18h30.\nMenu : Apéritif offert – Assortiment de tapas – Poulet basquaise – Pomme de terre – Café gourmand .\nAnimations toute la soirée\, lancer d’espadrilles\, chants traditionnels\, bourriche\,… \nTarif 20€ et 10€ pour les enfants – 12 ans . Réservation au 07 69 89 29 19 ou 06 56 77 47 52 avant le 20 Avril – Portez ses couverts
URL:https://happyradio.fr/event/soiree-bascoccitane
LOCATION:le bourg 24140 SAINT-GEORGES-DE-MONTCLAR\, le bourg\, SAINT-GEORGES-DE-MONTCLAR\, 24140
ATTACH;FMTTYPE=image/png:https://happyradio.fr/wp-content/uploads/2026/04/Soiree-BascOccitane.png
ORGANIZER;CN="calandreta Bel Solelh":MAILTO:escolacalandretabrageirac@gmail.com
END:VEVENT
BEGIN:VEVENT
DTSTART;TZID=Europe/Paris:20260425T190000
DTEND;TZID=Europe/Paris:20260425T213000
DTSTAMP:20260424T170759
CREATED:20260410T121113Z
LAST-MODIFIED:20260410T121113Z
UID:10004236-1777143600-1777152600@happyradio.fr
SUMMARY:CONCERT GOSPEL
DESCRIPTION:Concert Gospel église de MONTAGNAC d’AUBEROCHE. Entrée 15.00 €; restauration possible: galettes\, crêpes.=\, boissons. \nGroupe: HEAVEN GOSPEL GROUP. Réservation et renseignements aux: 06 79 97 94 92 ou 06 05 06 06 01
URL:https://happyradio.fr/event/concert-gospel
CATEGORIES:_AGENDA
ATTACH;FMTTYPE=image/jpeg:https://happyradio.fr/wp-content/uploads/2026/04/img003-scaled.jpg
END:VEVENT
BEGIN:VEVENT
DTSTART;TZID=Europe/Paris:20260425T200000
DTEND;TZID=Europe/Paris:20260425T220000
DTSTAMP:20260424T170759
CREATED:20260129T142335Z
LAST-MODIFIED:20260129T142335Z
UID:10004118-1777147200-1777154400@happyradio.fr
SUMMARY:Yannick Noah en concert
DESCRIPTION:Yannick Noah\, icône du tennis devenu chanteur engagé\, a conquis le cœur du public avec ses chansons chaleureuses\, mêlant énergie\, optimisme et messages d’espoir. Un artiste authentique au parcours unique.
URL:https://happyradio.fr/event/yannick-noah-en-concert
LOCATION:L’Étincelle\, Rue Anatole France\, Bergerac
ATTACH;FMTTYPE=image/png:https://happyradio.fr/wp-content/uploads/2026/01/yannick-noah.png
END:VEVENT
BEGIN:VEVENT
DTSTART;TZID=Europe/Paris:20260425T200000
DTEND;TZID=Europe/Paris:20260425T223000
DTSTAMP:20260424T170759
CREATED:20260216T100357Z
LAST-MODIFIED:20260216T100357Z
UID:10004160-1777147200-1777156200@happyradio.fr
SUMMARY:La Bohème - Opéra Dordogne-Périgord
DESCRIPTION:Vous avez aimé « West Side Story » ou encore « Nabucco » ? Pour cette nouvelle saison\, l’Opéra Dordogne-Périgord présente « La Bohème »\, l’un des plus grands chefs d’œuvre de Puccini. En son cœur\, une aventure humaine réunissant un orchestre symphonique de 70 musiciens\, 8 solistes professionnels\, 60 choristes périgourdins\, 14 choristes enfants\, des jeunes de formations professionnelles… Au total\, plus de 400 Périgourdins travaillent à la réalisation de ce spectacle de grande envergure pour vous faire vivre un moment hors du temps ! \n« La Bohème » est un opéra grandiose à découvrir seul\, en famille ou entre amis\, à des tarifs accessibles dès 20 € seulement ! \nDeux séances à l’Arena Le Palio Périgord de Boulazac (24) : samedi 25 avril 2025 à 20 h et dimanche 26 avril 2025 à 16 h. \nDurée : 2 heures 30 (avec entracte). \nRéservations : https://opera-dordogne.fr/billetterie/ \nSynopsis : « La Bohème » raconte avec émotion l’existence joyeuse et précaire de jeunes artistes sans le sou. À Périgueux\, dans une mansarde modeste\, Rodolfo\, poète rêveur\, rencontre sa voisine Mimì\, une couturière. Leur amour naît d’un regard et se tisse dans l’enthousiasme de la jeunesse qu’ils partagent avec leurs compagnons Marcello\, Musetta\, Colline et Schaunard. Mais sous la tendresse raffinée de la musique de Puccini plane l’ombre de la maladie qui ronge Mimì. Rodolfo\, incapable d’affronter son déclin\, s’éloigne malgré être éperdument amoureux. Jusqu’au jour où Mimì revient\, épuisée\, pour vivre ses derniers instants auprès de lui — laissant résonner l’un des adieux les plus poignants de tout l’opéra.
URL:https://happyradio.fr/event/la-boheme-opera-dordogne-perigord/2026-04-25
LOCATION:Arena Le Palio Périgord – Boulazac-Isle-Manoire\, 4 rue de Bibbiena\, Boulazac Isle Manoire\, 24750\, France
CATEGORIES:_AGENDA
ATTACH;FMTTYPE=image/jpeg:https://happyradio.fr/wp-content/uploads/2026/02/Affiche-horizontal-Boheme.jpeg
END:VEVENT
BEGIN:VEVENT
DTSTART;TZID=Europe/Paris:20260425T200000
DTEND;TZID=Europe/Paris:20260425T230000
DTSTAMP:20260424T170759
CREATED:20260203T105113Z
LAST-MODIFIED:20260203T105150Z
UID:10004135-1777147200-1777158000@happyradio.fr
SUMMARY:Soirée Cabaret
DESCRIPTION:Le comité des Fêtes de Cours de Pile organise une soirée Cabaret animée par la Compagnie Lynshow Spectacles. \nAu menu : apéritif\, salade gourmande\, filet mignon et ses purées de légumes\, salade\, fromage\, dessert (vin non compris \nTarif unique : 35€ \nLes places étant limitées\, il est conseillé de réserver rapidement par téléphone au 06 71 83 43 81 ou 06 02 60 20 99 ou par mail comitedesfetescdp24@gmail.com
URL:https://happyradio.fr/event/soiree-cabaret
LOCATION:Cours de Pile – Salle des Fêtes\, Route de Saint-Germain\, Cours-de-Pile\, 24520\, France
CATEGORIES:_AGENDA
ATTACH;FMTTYPE=image/jpeg:https://happyradio.fr/wp-content/uploads/2026/01/Annonce-Repas-Cabaret-_-2026-04-25-1.jpg
ORGANIZER;CN="Comit%C3%A9 des F%C3%AAtes de Cours de Pile":MAILTO:mjdebiol@gmail.com
END:VEVENT
BEGIN:VEVENT
DTSTART;TZID=Europe/Paris:20260425T200000
DTEND;TZID=Europe/Paris:20260425T230000
DTSTAMP:20260424T170759
CREATED:20260413T092559Z
LAST-MODIFIED:20260413T092559Z
UID:10004252-1777147200-1777158000@happyradio.fr
SUMMARY:Dîner spectacle Cabaret
DESCRIPTION:✨ Authentique soirée cabaret à prix tout doux ! ✨ \n📅 Samedi 25 avril 2026 – 20h00\n📍 Salle des fêtes de Cours‑de‑Pile (près de Bergerac)\n🎭 Tarif : 35 € adultes / 25 € enfants -12 ans (repas + show)\n⏳ Date limite d’inscription : 19 avril 2026\n🎟️ Réservez vite – places limitées !\n▶️ (06 71 83 43 81 ou 06 02 60 20 99) \nSoirée animée par la Compagnie Lynshow Spectacles :  https://www.facebook.com/cyrillyns/?locale=fr_FR \nOn vous attend nombreux pour une soirée festive et familiale ! 🎶🥂
URL:https://happyradio.fr/event/diner-spectacle-cabaret
LOCATION:Cours de Pile – Salle des Fêtes\, Route de Saint-Germain\, Cours-de-Pile\, 24520\, France
ATTACH;FMTTYPE=image/jpeg:https://happyradio.fr/wp-content/uploads/2026/04/Flyer-Repas-Cabaret-2026.jpg
ORGANIZER;CN="Comit%C3%A9 des F%C3%AAtes de Cours de Pile":MAILTO:mjdebiol@gmail.com
END:VEVENT
BEGIN:VEVENT
DTSTART;TZID=Europe/Paris:20260425T203000
DTEND;TZID=Europe/Paris:20260425T220000
DTSTAMP:20260424T170759
CREATED:20260410T121216Z
LAST-MODIFIED:20260410T121216Z
UID:10004240-1777149000-1777154400@happyradio.fr
SUMMARY:KAY ! LETTRES À UN POÈTE DISPARU
DESCRIPTION:Dans le cadre du Printemps des Poètes à Sarlat \n« KAY! Lettres à un poète disparu »\, spectacle couplant musique\, création visuelle et lecture\, est une correspondance posthume entre deux auteurs qu’un siècle sépare\, mais qui parlent de sujets communs : leur place d’homme noir dans la société\, et Marseille\, ville-monde par excellence. \nLe rappeur Mike Ladd sera également présent\, apportant sa voix singulière à cette exploration poétique et musicale. \n  \n\n« KAY ! » est une correspondance posthume entre deux auteurs qu’un siècle sépare : Claude McKay et Lamine Diagne. À travers le prisme de son histoire personnelle de métis franco-sénégalais\, Lamine Diagne rend hommage au poète de la Harlem Renaissance et interroge l’altérité\, l’ancrage et la mobilité comme manière d’habiter le monde. \nNé de la rencontre entre Lamine Diagne et Matthieu Verdeil\, réalisateur d’un documentaire consacré à Claude McKay\, ce spectacle mêle musique jazz\, création visuelle et lecture pour une expérience immersive et sensible. \n———– \n« Lamine Diagne et Raymond Dikoumé sont très émouvants dans ce spectacle qui raconte la France d’aujourd’hui et donne un éclairage sensible sur notre histoire coloniale » Le journal de 18h Un sujet de Stéphane Capron – France Inter.
URL:https://happyradio.fr/event/kay-lettres-a-un-poete-disparu
LOCATION:Centre culturel Louis Delmon Sarlat\, Sarlat-la-Canéda
CATEGORIES:_AGENDA
ATTACH;FMTTYPE=image/jpeg:https://happyradio.fr/wp-content/uploads/2026/04/26-BACHE-KAY-Kay-c-R_Arnaud-06-avril-2023-20.jpg
ORGANIZER;CN="Centre culturel Louis Delmon":MAILTO:centreculturel@sarlat.fr
END:VEVENT
BEGIN:VEVENT
DTSTART;TZID=Europe/Paris:20260425T203000
DTEND;TZID=Europe/Paris:20260425T233000
DTSTAMP:20260424T170759
CREATED:20260129T111428Z
LAST-MODIFIED:20260129T111644Z
UID:10004098-1777149000-1777159800@happyradio.fr
SUMMARY:[ PRINTEMPS DES POÈTES ] – KAY! lettres à un poète disparu
DESCRIPTION:« KAY! Lettres à un poète disparu »\, spectacle couplant musique\, création visuelle et lecture\, est une correspondance posthume entre deux auteurs qu’un siècle sépare\, mais qui parlent de sujets communs : leur place d’homme noir dans la société\, et Marseille\, ville-monde par excellence.
URL:https://happyradio.fr/event/printemps-des-poetes-kay-lettres-a-un-poete-disparu
LOCATION:Centre culturel Louis Delmon Sarlat\, Sarlat-la-Canéda
ATTACH;FMTTYPE=image/webp:https://happyradio.fr/wp-content/uploads/2026/01/printemps-des-poetes.webp
END:VEVENT
BEGIN:VEVENT
DTSTART;TZID=Europe/Paris:20260426T090000
DTEND;TZID=Europe/Paris:20260426T130000
DTSTAMP:20260424T170759
CREATED:20260403T123006Z
LAST-MODIFIED:20260403T123006Z
UID:10004220-1777194000-1777208400@happyradio.fr
SUMMARY:Marché aux fleurs et aux plantes
DESCRIPTION:L’Association des Parents d’Elèves de Marsaneix organise un marché aux fleurs et aux plants de légumes\, accompagné d’un marché de producteurs le dimanche 26 avril 2026 de 9h à 13h sur la place du bourg de Marsaneix. \nSur place : plants de légumes\, fleurs\, aromatiques… miel de Marsaneix\, bijoux\, fraises de Lacropte\, crêpes ainsi que des producteurs locaux :  \nLa Ferme de Puygauthier et Le Domaine Le Perrier (vin).  
URL:https://happyradio.fr/event/marche-aux-fleurs-et-aux-plantes
LOCATION:Marsaneix\, Bourg de Marsaneix\, Marsaneix\, 24750\, France
CATEGORIES:_AGENDA
ATTACH;FMTTYPE=image/jpeg:https://happyradio.fr/wp-content/uploads/2026/03/Marche-aux-fleurs-APEM.jpg
ORGANIZER;CN="APEM":MAILTO:apemarsaneix@gmail.com
END:VEVENT
BEGIN:VEVENT
DTSTART;TZID=Europe/Paris:20260426T160000
DTEND;TZID=Europe/Paris:20260426T183000
DTSTAMP:20260424T170759
CREATED:20260216T100357Z
LAST-MODIFIED:20260216T100357Z
UID:10004161-1777219200-1777228200@happyradio.fr
SUMMARY:La Bohème - Opéra Dordogne-Périgord
DESCRIPTION:Vous avez aimé « West Side Story » ou encore « Nabucco » ? Pour cette nouvelle saison\, l’Opéra Dordogne-Périgord présente « La Bohème »\, l’un des plus grands chefs d’œuvre de Puccini. En son cœur\, une aventure humaine réunissant un orchestre symphonique de 70 musiciens\, 8 solistes professionnels\, 60 choristes périgourdins\, 14 choristes enfants\, des jeunes de formations professionnelles… Au total\, plus de 400 Périgourdins travaillent à la réalisation de ce spectacle de grande envergure pour vous faire vivre un moment hors du temps ! \n« La Bohème » est un opéra grandiose à découvrir seul\, en famille ou entre amis\, à des tarifs accessibles dès 20 € seulement ! \nDeux séances à l’Arena Le Palio Périgord de Boulazac (24) : samedi 25 avril 2025 à 20 h et dimanche 26 avril 2025 à 16 h. \nDurée : 2 heures 30 (avec entracte). \nRéservations : https://opera-dordogne.fr/billetterie/ \nSynopsis : « La Bohème » raconte avec émotion l’existence joyeuse et précaire de jeunes artistes sans le sou. À Périgueux\, dans une mansarde modeste\, Rodolfo\, poète rêveur\, rencontre sa voisine Mimì\, une couturière. Leur amour naît d’un regard et se tisse dans l’enthousiasme de la jeunesse qu’ils partagent avec leurs compagnons Marcello\, Musetta\, Colline et Schaunard. Mais sous la tendresse raffinée de la musique de Puccini plane l’ombre de la maladie qui ronge Mimì. Rodolfo\, incapable d’affronter son déclin\, s’éloigne malgré être éperdument amoureux. Jusqu’au jour où Mimì revient\, épuisée\, pour vivre ses derniers instants auprès de lui — laissant résonner l’un des adieux les plus poignants de tout l’opéra.
URL:https://happyradio.fr/event/la-boheme-opera-dordogne-perigord/2026-04-26
LOCATION:Arena Le Palio Périgord – Boulazac-Isle-Manoire\, 4 rue de Bibbiena\, Boulazac Isle Manoire\, 24750\, France
CATEGORIES:_AGENDA
ATTACH;FMTTYPE=image/jpeg:https://happyradio.fr/wp-content/uploads/2026/02/Affiche-horizontal-Boheme.jpeg
END:VEVENT
BEGIN:VEVENT
DTSTART;TZID=Europe/Paris:20260429T200000
DTEND;TZID=Europe/Paris:20260429T223000
DTSTAMP:20260424T170759
CREATED:20260410T121221Z
LAST-MODIFIED:20260410T121221Z
UID:10004241-1777492800-1777501800@happyradio.fr
SUMMARY:SCÈNE OUVERTE
DESCRIPTION:En partenariat avec le Lycée Joséphine Baker \n\n\n\n\n\n\n\n\nLa scène ouverte permet aux lycéens de Sarlat d’élaborer et de mettre en oeuvre une soirée au cours de laquelle se croisent des disciplines artistiques variées. Les artistes amateurs sont auditionnés et sélectionnés par l’équipe d’organisation. Ils bénéficient ensuite d’un accompagnement professionnel\, leur permettant de progresser et d’aborder la scène dans les meilleures conditions. \nEnergie\, rencontres et découvertes sont les maîtres mots de ce temps fort\, ouvert à toute personne pratiquant un art vivant. Une occasion de se produire sur la scène du Centre culturel\, dans un espace équipé\, offrant des conditions d’accueil professionnelles et un public nombreux. \nUn moyen d’exprimer ses sentiments\, de tenter une expérience\, de partager un moment avec le public.
URL:https://happyradio.fr/event/scene-ouverte
LOCATION:Centre culturel Louis Delmon Sarlat\, Sarlat-la-Canéda
CATEGORIES:_AGENDA
ATTACH;FMTTYPE=image/jpeg:https://happyradio.fr/wp-content/uploads/2026/04/SCENE-OUVERTE-AVRIL-26-scaled.jpg
ORGANIZER;CN="Centre culturel Louis Delmon":MAILTO:centreculturel@sarlat.fr
END:VEVENT
END:VCALENDAR